BEGIN:VCALENDAR
VERSION:2.0
PRODID:-//eventon.com NONSGML v1.0//EN
CALSCALE:GREGORIAN
METHOD:PUBLISH
BEGIN:VEVENT
UID:69ecb0cf87106
DTSTAMP:20260425T121719Z
DTSTART:20260607T193000Z
DTEND:20260607T235000Z
LOCATION:
SUMMARY:Hot Jazz & Swing im Bärenzwinger
DESCRIPTION:Seid herzlich willkommen in den Gewölben des Dresdener Bärenz
 wingers!\nhttps://swingin-bluebirds.de/events/hot-jazz-swing-im-baerenzwing
 er-copy/
URL:https://swingin-bluebirds.de/events/hot-jazz-swing-im-baerenzwinger-copy/
END:VEVENT
END:VCALENDAR